BEGIN:VCALENDAR
VERSION:2.0
PRODID:spatie/icalendar-generator
DESCRIPTION:Events from Asaborir
X-WR-CALDESC:Events from Asaborir
REFRESH-INTERVAL;VALUE=DURATION:PT1440M
X-PUBLISHED-TTL:PT1440M
BEGIN:VTIMEZONE
TZID:Etc/GMT+0
BEGIN:STANDARD
DTSTART:20250606T000000Z
TZOFFSETFROM:+0000
TZOFFSETTO:+0000
END:STANDARD
END:VTIMEZONE
BEGIN:VTIMEZONE
TZID:UTC
BEGIN:STANDARD
DTSTART:20250725T102132Z
TZOFFSETFROM:+0000
TZOFFSETTO:+0000
END:STANDARD
END:VTIMEZONE
BEGIN:VEVENT
UID:67-55
DTSTAMP:20260421T102132Z
SUMMARY:FINE Expo en Valladolid 2026
LOCATION:Valladolid
ORGANIZER;CN=Asaborir:MAILTO:contacto@asaborir.com
DTSTART;TZID=Etc/GMT+0;VALUE=DATE:20260303
DTEND;TZID=Etc/GMT+0;VALUE=DATE:20260305
X-ALT-DESC;FMTTYPE=TEXT/HTML:<p>FINE Expo en Valladolid (3-4 de marzo de 20
 26) es una feria internacional especializada en enoturismo que reúne a bo
 degas\, destinos y operadores turísticos. El evento combina reuniones pro
 fesionales\, ponencias y reflexión estratégica sobre el turismo del vino
 . Celebrado en un territorio de fuerte tradición vitivinícola\, se conso
 lida como referencia en el panorama enogastronómico.</p>\n
CATEGORIES:Concursos
URL;VALUE=URI:https://asaborir.com/mc-events/fine-expo-en-valladolid-2026/
METHOD:PUBLISH
END:VEVENT
END:VCALENDAR